BEGIN:VCALENDAR
VERSION:2.0
PRODID:-// - ECPv6.15.17.1//NONSGML v1.0//EN
CALSCALE:GREGORIAN
METHOD:PUBLISH
X-ORIGINAL-URL:https://cctech.staging.wp.collegeinbound.com
X-WR-CALDESC:Events for 
REFRESH-INTERVAL;VALUE=DURATION:PT1H
X-Robots-Tag:noindex
X-PUBLISHED-TTL:PT1H
BEGIN:VTIMEZONE
TZID:America/New_York
BEGIN:DAYLIGHT
TZOFFSETFROM:-0500
TZOFFSETTO:-0400
TZNAME:EDT
DTSTART:20250309T070000
END:DAYLIGHT
BEGIN:STANDARD
TZOFFSETFROM:-0400
TZOFFSETTO:-0500
TZNAME:EST
DTSTART:20251102T060000
END:STANDARD
BEGIN:DAYLIGHT
TZOFFSETFROM:-0500
TZOFFSETTO:-0400
TZNAME:EDT
DTSTART:20260308T070000
END:DAYLIGHT
BEGIN:STANDARD
TZOFFSETFROM:-0400
TZOFFSETTO:-0500
TZNAME:EST
DTSTART:20261101T060000
END:STANDARD
BEGIN:DAYLIGHT
TZOFFSETFROM:-0500
TZOFFSETTO:-0400
TZNAME:EDT
DTSTART:20270314T070000
END:DAYLIGHT
BEGIN:STANDARD
TZOFFSETFROM:-0400
TZOFFSETTO:-0500
TZNAME:EST
DTSTART:20271107T060000
END:STANDARD
END:VTIMEZONE
BEGIN:VEVENT
DTSTART;TZID=America/New_York:20260421T100000
DTEND;TZID=America/New_York:20260421T120000
DTSTAMP:20260421T112744
CREATED:20260312T181346Z
LAST-MODIFIED:20260312T181346Z
UID:10003788-1776765600-1776772800@cctech.staging.wp.collegeinbound.com
SUMMARY:Central Closet Countdown
DESCRIPTION:Central Closet Countdown is your one-stop pop-in event to get career-ready and celebration-ready this semester. Stop by the Titan Attire Closet for professional attire perfect for interviews\, graduation\, and awards ceremonies. Career Services will also be available to help with professional headshots if needed. Step into your moment – look sharp\, feel confident\, and celebrate the season in style!
URL:https://cctech.staging.wp.collegeinbound.com/event/central-closet-countdown/
LOCATION:Building M200\, Room M2212\, 2nd floor\, 506 N. Guignard Drive\, Sumter\, SC\, 29150\, United States
END:VEVENT
END:VCALENDAR