BEGIN:VCALENDAR
VERSION:2.0
PRODID:-// - ECPv6.15.17.1//NONSGML v1.0//EN
CALSCALE:GREGORIAN
METHOD:PUBLISH
X-ORIGINAL-URL:https://cctech.staging.wp.collegeinbound.com
X-WR-CALDESC:Events for 
REFRESH-INTERVAL;VALUE=DURATION:PT1H
X-Robots-Tag:noindex
X-PUBLISHED-TTL:PT1H
BEGIN:VTIMEZONE
TZID:America/New_York
BEGIN:DAYLIGHT
TZOFFSETFROM:-0500
TZOFFSETTO:-0400
TZNAME:EDT
DTSTART:20240310T070000
END:DAYLIGHT
BEGIN:STANDARD
TZOFFSETFROM:-0400
TZOFFSETTO:-0500
TZNAME:EST
DTSTART:20241103T060000
END:STANDARD
BEGIN:DAYLIGHT
TZOFFSETFROM:-0500
TZOFFSETTO:-0400
TZNAME:EDT
DTSTART:20250309T070000
END:DAYLIGHT
BEGIN:STANDARD
TZOFFSETFROM:-0400
TZOFFSETTO:-0500
TZNAME:EST
DTSTART:20251102T060000
END:STANDARD
BEGIN:DAYLIGHT
TZOFFSETFROM:-0500
TZOFFSETTO:-0400
TZNAME:EDT
DTSTART:20260308T070000
END:DAYLIGHT
BEGIN:STANDARD
TZOFFSETFROM:-0400
TZOFFSETTO:-0500
TZNAME:EST
DTSTART:20261101T060000
END:STANDARD
BEGIN:DAYLIGHT
TZOFFSETFROM:-0500
TZOFFSETTO:-0400
TZNAME:EDT
DTSTART:20270314T070000
END:DAYLIGHT
BEGIN:STANDARD
TZOFFSETFROM:-0400
TZOFFSETTO:-0500
TZNAME:EST
DTSTART:20271107T060000
END:STANDARD
END:VTIMEZONE
BEGIN:VEVENT
DTSTART;VALUE=DATE:20260323
DTEND;VALUE=DATE:20260324
DTSTAMP:20260421T125340
CREATED:20251014T180649Z
LAST-MODIFIED:20251014T180649Z
UID:10003660-1774224000-1774310399@cctech.staging.wp.collegeinbound.com
SUMMARY:Last Day to Withdraw with "W" 5M2
DESCRIPTION:
URL:https://cctech.staging.wp.collegeinbound.com/event/last-day-to-withdraw-with-w-5m2-3/
LOCATION:CCTC – All Campuses
CATEGORIES:Academics
END:VEVENT
BEGIN:VEVENT
DTSTART;TZID=America/New_York:20260316T080000
DTEND;TZID=America/New_York:20260318T170000
DTSTAMP:20260421T125340
CREATED:20251014T180521Z
LAST-MODIFIED:20251014T180521Z
UID:10003659-1773648000-1773853200@cctech.staging.wp.collegeinbound.com
SUMMARY:Drop/Add Period 8M2
DESCRIPTION:
URL:https://cctech.staging.wp.collegeinbound.com/event/drop-add-period-8m2-4/
LOCATION:CCTC – All Campuses
CATEGORIES:Academics
END:VEVENT
BEGIN:VEVENT
DTSTART;VALUE=DATE:20260316
DTEND;VALUE=DATE:20260317
DTSTAMP:20260421T125340
CREATED:20251014T180430Z
LAST-MODIFIED:20251014T180430Z
UID:10003658-1773619200-1773705599@cctech.staging.wp.collegeinbound.com
SUMMARY:Classes Begin 8M2
DESCRIPTION:
URL:https://cctech.staging.wp.collegeinbound.com/event/classes-begin-8m2-3/
LOCATION:CCTC – All Campuses
CATEGORIES:Academics
END:VEVENT
BEGIN:VEVENT
DTSTART;VALUE=DATE:20260310
DTEND;VALUE=DATE:20260311
DTSTAMP:20260421T125340
CREATED:20251014T180319Z
LAST-MODIFIED:20251014T180319Z
UID:10003657-1773100800-1773187199@cctech.staging.wp.collegeinbound.com
SUMMARY:Grades Due Noon - Weekend College
DESCRIPTION:
URL:https://cctech.staging.wp.collegeinbound.com/event/grades-due-noon-weekend-college/
LOCATION:CCTC – All Campuses
CATEGORIES:Academics
END:VEVENT
BEGIN:VEVENT
DTSTART;TZID=America/New_York:20260309T080000
DTEND;TZID=America/New_York:20260313T170000
DTSTAMP:20260421T125340
CREATED:20251014T180005Z
LAST-MODIFIED:20251014T180005Z
UID:10003655-1773043200-1773421200@cctech.staging.wp.collegeinbound.com
SUMMARY:Spring Break/No Classes/Faculty Holidays
DESCRIPTION:
URL:https://cctech.staging.wp.collegeinbound.com/event/spring-break-no-classes-faculty-holidays-2/
LOCATION:CCTC – All Campuses
CATEGORIES:Academics
END:VEVENT
BEGIN:VEVENT
DTSTART;VALUE=DATE:20260305
DTEND;VALUE=DATE:20260306
DTSTAMP:20260421T125340
CREATED:20251014T180116Z
LAST-MODIFIED:20251014T180116Z
UID:10003656-1772668800-1772755199@cctech.staging.wp.collegeinbound.com
SUMMARY:Grades Due Noon 8M1
DESCRIPTION:
URL:https://cctech.staging.wp.collegeinbound.com/event/grades-due-noon-8m1/
LOCATION:CCTC – All Campuses
CATEGORIES:Academics
END:VEVENT
BEGIN:VEVENT
DTSTART;VALUE=DATE:20260304
DTEND;VALUE=DATE:20260305
DTSTAMP:20260421T125340
CREATED:20251014T175835Z
LAST-MODIFIED:20251014T175835Z
UID:10003654-1772582400-1772668799@cctech.staging.wp.collegeinbound.com
SUMMARY:Classes End 8M1
DESCRIPTION:
URL:https://cctech.staging.wp.collegeinbound.com/event/classes-end-8m1-2/
LOCATION:CCTC – All Campuses
CATEGORIES:Academics
END:VEVENT
BEGIN:VEVENT
DTSTART;TZID=America/New_York:20260303T080000
DTEND;TZID=America/New_York:20260304T170000
DTSTAMP:20260421T125340
CREATED:20251014T175746Z
LAST-MODIFIED:20251014T175746Z
UID:10003653-1772524800-1772643600@cctech.staging.wp.collegeinbound.com
SUMMARY:Exams 8M1 During Regular Class Time
DESCRIPTION:
URL:https://cctech.staging.wp.collegeinbound.com/event/exams-8m1-during-regular-class-time/
LOCATION:CCTC – All Campuses
CATEGORIES:Academics
END:VEVENT
BEGIN:VEVENT
DTSTART;VALUE=DATE:20260303
DTEND;VALUE=DATE:20260304
DTSTAMP:20260421T125340
CREATED:20251014T175611Z
LAST-MODIFIED:20251014T175611Z
UID:10003652-1772496000-1772582399@cctech.staging.wp.collegeinbound.com
SUMMARY:Midterm Grades Due Noon - 16W
DESCRIPTION:
URL:https://cctech.staging.wp.collegeinbound.com/event/midterm-grades-due-noon-16w/
LOCATION:CCTC – All Campuses
CATEGORIES:Academics
END:VEVENT
BEGIN:VEVENT
DTSTART;VALUE=DATE:20260223
DTEND;VALUE=DATE:20260224
DTSTAMP:20260421T125340
CREATED:20251014T174411Z
LAST-MODIFIED:20251014T174411Z
UID:10003649-1771804800-1771891199@cctech.staging.wp.collegeinbound.com
SUMMARY:Registration Open for Summer
DESCRIPTION:
URL:https://cctech.staging.wp.collegeinbound.com/event/registration-open-for-summer/
LOCATION:CCTC – All Campuses
CATEGORIES:Academics
END:VEVENT
BEGIN:VEVENT
DTSTART;VALUE=DATE:20260223
DTEND;VALUE=DATE:20260224
DTSTAMP:20260421T125340
CREATED:20251014T174325Z
LAST-MODIFIED:20251014T174325Z
UID:10003648-1771804800-1771891199@cctech.staging.wp.collegeinbound.com
SUMMARY:8M1 - Last Day to Withdraw with "W"
DESCRIPTION:
URL:https://cctech.staging.wp.collegeinbound.com/event/8m1-last-day-to-withdraw-with-w/
LOCATION:CCTC – All Campuses
CATEGORIES:Academics
END:VEVENT
BEGIN:VEVENT
DTSTART;TZID=America/New_York:20260218T080000
DTEND;TZID=America/New_York:20260220T170000
DTSTAMP:20260421T125340
CREATED:20251014T175445Z
LAST-MODIFIED:20251014T175445Z
UID:10003651-1771401600-1771606800@cctech.staging.wp.collegeinbound.com
SUMMARY:Drop/Add Period 5M2
DESCRIPTION:
URL:https://cctech.staging.wp.collegeinbound.com/event/drop-add-period-5m2-2/
LOCATION:CCTC – All Campuses
CATEGORIES:Academics
END:VEVENT
BEGIN:VEVENT
DTSTART;VALUE=DATE:20260218
DTEND;VALUE=DATE:20260219
DTSTAMP:20260421T125340
CREATED:20251014T175012Z
LAST-MODIFIED:20251014T175012Z
UID:10003650-1771372800-1771459199@cctech.staging.wp.collegeinbound.com
SUMMARY:Classes Begin 5M2
DESCRIPTION:
URL:https://cctech.staging.wp.collegeinbound.com/event/classes-begin-5m2-2/
LOCATION:CCTC – All Campuses
CATEGORIES:Academics
END:VEVENT
BEGIN:VEVENT
DTSTART;VALUE=DATE:20260217
DTEND;VALUE=DATE:20260218
DTSTAMP:20260421T125340
CREATED:20251014T174005Z
LAST-MODIFIED:20251014T174005Z
UID:10003645-1771286400-1771372799@cctech.staging.wp.collegeinbound.com
SUMMARY:5M1 - Grades Due Noon
DESCRIPTION:
URL:https://cctech.staging.wp.collegeinbound.com/event/5m1-grades-due-noon/
LOCATION:CCTC – All Campuses
CATEGORIES:Academics
END:VEVENT
BEGIN:VEVENT
DTSTART;TZID=America/New_York:20260216T080000
DTEND;TZID=America/New_York:20260218T170000
DTSTAMP:20260421T125340
CREATED:20251014T174211Z
LAST-MODIFIED:20251014T174211Z
UID:10003647-1771228800-1771434000@cctech.staging.wp.collegeinbound.com
SUMMARY:Drop/Add Period 10W
DESCRIPTION:
URL:https://cctech.staging.wp.collegeinbound.com/event/drop-add-period-10w/
LOCATION:CCTC – All Campuses
CATEGORIES:Academics
END:VEVENT
BEGIN:VEVENT
DTSTART;VALUE=DATE:20260216
DTEND;VALUE=DATE:20260217
DTSTAMP:20260421T125340
CREATED:20251014T174102Z
LAST-MODIFIED:20251014T174102Z
UID:10003646-1771200000-1771286399@cctech.staging.wp.collegeinbound.com
SUMMARY:Classes Begin 10W
DESCRIPTION:
URL:https://cctech.staging.wp.collegeinbound.com/event/classes-begin-10w/
LOCATION:CCTC – All Campuses
CATEGORIES:Academics
END:VEVENT
BEGIN:VEVENT
DTSTART;VALUE=DATE:20260216
DTEND;VALUE=DATE:20260217
DTSTAMP:20260421T125340
CREATED:20251014T173914Z
LAST-MODIFIED:20251014T173914Z
UID:10003644-1771200000-1771286399@cctech.staging.wp.collegeinbound.com
SUMMARY:Classes End 5M1/Exams During Regular Class Time
DESCRIPTION:
URL:https://cctech.staging.wp.collegeinbound.com/event/classes-end-5m1-exams-during-regular-class-time-2/
LOCATION:CCTC – All Campuses
CATEGORIES:Academics
END:VEVENT
BEGIN:VEVENT
DTSTART;VALUE=DATE:20260209
DTEND;VALUE=DATE:20260210
DTSTAMP:20260421T125340
CREATED:20251014T173747Z
LAST-MODIFIED:20251014T173747Z
UID:10003643-1770595200-1770681599@cctech.staging.wp.collegeinbound.com
SUMMARY:5M1 - Last Day to Withdraw with "W"
DESCRIPTION:
URL:https://cctech.staging.wp.collegeinbound.com/event/5m1-last-day-to-withdraw-with-w/
LOCATION:CCTC – All Campuses
CATEGORIES:Academics
END:VEVENT
BEGIN:VEVENT
DTSTART;VALUE=DATE:20260205
DTEND;VALUE=DATE:20260206
DTSTAMP:20260421T125340
CREATED:20251014T173540Z
LAST-MODIFIED:20251014T173540Z
UID:10003642-1770249600-1770335999@cctech.staging.wp.collegeinbound.com
SUMMARY:8M1 Midterm Grades Due Noon
DESCRIPTION:
URL:https://cctech.staging.wp.collegeinbound.com/event/8m1-midterm-grades-due-noon/
LOCATION:CCTC – All Campuses
CATEGORIES:Academics
END:VEVENT
BEGIN:VEVENT
DTSTART;TZID=America/New_York:20260130T080000
DTEND;TZID=America/New_York:20260203T170000
DTSTAMP:20260421T125340
CREATED:20251014T173413Z
LAST-MODIFIED:20251014T173413Z
UID:10003641-1769760000-1770138000@cctech.staging.wp.collegeinbound.com
SUMMARY:Drop/Add Weekend College
DESCRIPTION:
URL:https://cctech.staging.wp.collegeinbound.com/event/drop-add-weekend-college/
LOCATION:CCTC – All Campuses
CATEGORIES:Academics
END:VEVENT
BEGIN:VEVENT
DTSTART;VALUE=DATE:20260130
DTEND;VALUE=DATE:20260131
DTSTAMP:20260421T125340
CREATED:20251014T173126Z
LAST-MODIFIED:20251014T173126Z
UID:10003640-1769731200-1769817599@cctech.staging.wp.collegeinbound.com
SUMMARY:Classes Begin Weekend College
DESCRIPTION:
URL:https://cctech.staging.wp.collegeinbound.com/event/classes-begin-weekend-college-7/
LOCATION:CCTC – All Campuses
CATEGORIES:Academics
END:VEVENT
BEGIN:VEVENT
DTSTART;VALUE=DATE:20260119
DTEND;VALUE=DATE:20260120
DTSTAMP:20260421T125340
CREATED:20251014T173006Z
LAST-MODIFIED:20251014T173006Z
UID:10003639-1768780800-1768867199@cctech.staging.wp.collegeinbound.com
SUMMARY:Martin Luther King Holiday - College Closed - Faculty/Staff Holiday
DESCRIPTION:
URL:https://cctech.staging.wp.collegeinbound.com/event/martin-luther-king-holiday-college-closed-faculty-staff-holiday/
LOCATION:CCTC – All Campuses
CATEGORIES:Academics
END:VEVENT
BEGIN:VEVENT
DTSTART;TZID=America/New_York:20260112T080000
DTEND;TZID=America/New_York:20260116T170000
DTSTAMP:20260421T125340
CREATED:20251014T172719Z
LAST-MODIFIED:20251014T172719Z
UID:10003637-1768204800-1768582800@cctech.staging.wp.collegeinbound.com
SUMMARY:Drop/Add Period - 16W
DESCRIPTION:
URL:https://cctech.staging.wp.collegeinbound.com/event/drop-add-period-16w/
LOCATION:CCTC – All Campuses
CATEGORIES:Academics
END:VEVENT
BEGIN:VEVENT
DTSTART;TZID=America/New_York:20260112T080000
DTEND;TZID=America/New_York:20260114T170000
DTSTAMP:20260421T125340
CREATED:20251014T172828Z
LAST-MODIFIED:20251014T172828Z
UID:10003638-1768204800-1768410000@cctech.staging.wp.collegeinbound.com
SUMMARY:Drop/Add Period - 8M1 & 5M1
DESCRIPTION:
URL:https://cctech.staging.wp.collegeinbound.com/event/drop-add-period-8m1-5m1/
LOCATION:CCTC – All Campuses
CATEGORIES:Academics
END:VEVENT
BEGIN:VEVENT
DTSTART;VALUE=DATE:20260112
DTEND;VALUE=DATE:20260113
DTSTAMP:20260421T125340
CREATED:20251014T172559Z
LAST-MODIFIED:20251014T172559Z
UID:10003636-1768176000-1768262399@cctech.staging.wp.collegeinbound.com
SUMMARY:Classes Begin - 16W\, 8M1\, & 5M1
DESCRIPTION:
URL:https://cctech.staging.wp.collegeinbound.com/event/classes-begin-16w-8m1-5m1/
LOCATION:CCTC – All Campuses
CATEGORIES:Academics
END:VEVENT
BEGIN:VEVENT
DTSTART;TZID=America/New_York:20260109T080000
DTEND;TZID=America/New_York:20260109T170000
DTSTAMP:20260421T125340
CREATED:20251014T172140Z
LAST-MODIFIED:20251014T172140Z
UID:10003634-1767945600-1767978000@cctech.staging.wp.collegeinbound.com
SUMMARY:Late Registration - Spring 202520
DESCRIPTION:
URL:https://cctech.staging.wp.collegeinbound.com/event/late-registration-spring-202520/
LOCATION:CCTC – All Campuses
CATEGORIES:Academics
END:VEVENT
BEGIN:VEVENT
DTSTART;TZID=America/New_York:20260105T080000
DTEND;TZID=America/New_York:20260109T170000
DTSTAMP:20260421T125340
CREATED:20251014T172044Z
LAST-MODIFIED:20251014T172044Z
UID:10003633-1767600000-1767978000@cctech.staging.wp.collegeinbound.com
SUMMARY:College Reopens - Faculty Workdays
DESCRIPTION:
URL:https://cctech.staging.wp.collegeinbound.com/event/college-reopens-faculty-workdays-7/
LOCATION:CCTC – All Campuses
CATEGORIES:Academics
END:VEVENT
BEGIN:VEVENT
DTSTART;VALUE=DATE:20260101
DTEND;VALUE=DATE:20260103
DTSTAMP:20260421T125340
CREATED:20251014T171920Z
LAST-MODIFIED:20251014T171920Z
UID:10003632-1767225600-1767398399@cctech.staging.wp.collegeinbound.com
SUMMARY:College Closed (Holiday)
DESCRIPTION:
URL:https://cctech.staging.wp.collegeinbound.com/event/college-closed-holiday-2/
LOCATION:CCTC – All Campuses
CATEGORIES:Academics
END:VEVENT
BEGIN:VEVENT
DTSTART;TZID=America/New_York:20251219T080000
DTEND;TZID=America/New_York:20251231T170000
DTSTAMP:20260421T125340
CREATED:20250710T183409Z
LAST-MODIFIED:20250710T183409Z
UID:10003373-1766131200-1767200400@cctech.staging.wp.collegeinbound.com
SUMMARY:Faculty Christmas Holidays
DESCRIPTION:
URL:https://cctech.staging.wp.collegeinbound.com/event/faculty-christmas-holidays-8/
LOCATION:CCTC – All Campuses
CATEGORIES:Academics
END:VEVENT
BEGIN:VEVENT
DTSTART;TZID=America/New_York:20251215T080000
DTEND;TZID=America/New_York:20251218T170000
DTSTAMP:20260421T125340
CREATED:20250710T183303Z
LAST-MODIFIED:20250710T183303Z
UID:10003372-1765785600-1766077200@cctech.staging.wp.collegeinbound.com
SUMMARY:Faculty Workday
DESCRIPTION:
URL:https://cctech.staging.wp.collegeinbound.com/event/faculty-workday-5/
LOCATION:CCTC – All Campuses
CATEGORIES:Academics
END:VEVENT
END:VCALENDAR