BEGIN:VCALENDAR
VERSION:2.0
PRODID:-// - ECPv6.15.17.1//NONSGML v1.0//EN
CALSCALE:GREGORIAN
METHOD:PUBLISH
X-ORIGINAL-URL:https://cctech.staging.wp.collegeinbound.com
X-WR-CALDESC:Events for 
REFRESH-INTERVAL;VALUE=DURATION:PT1H
X-Robots-Tag:noindex
X-PUBLISHED-TTL:PT1H
BEGIN:VTIMEZONE
TZID:America/New_York
BEGIN:DAYLIGHT
TZOFFSETFROM:-0500
TZOFFSETTO:-0400
TZNAME:EDT
DTSTART:20240310T070000
END:DAYLIGHT
BEGIN:STANDARD
TZOFFSETFROM:-0400
TZOFFSETTO:-0500
TZNAME:EST
DTSTART:20241103T060000
END:STANDARD
BEGIN:DAYLIGHT
TZOFFSETFROM:-0500
TZOFFSETTO:-0400
TZNAME:EDT
DTSTART:20250309T070000
END:DAYLIGHT
BEGIN:STANDARD
TZOFFSETFROM:-0400
TZOFFSETTO:-0500
TZNAME:EST
DTSTART:20251102T060000
END:STANDARD
BEGIN:DAYLIGHT
TZOFFSETFROM:-0500
TZOFFSETTO:-0400
TZNAME:EDT
DTSTART:20260308T070000
END:DAYLIGHT
BEGIN:STANDARD
TZOFFSETFROM:-0400
TZOFFSETTO:-0500
TZNAME:EST
DTSTART:20261101T060000
END:STANDARD
BEGIN:DAYLIGHT
TZOFFSETFROM:-0500
TZOFFSETTO:-0400
TZNAME:EDT
DTSTART:20270314T070000
END:DAYLIGHT
BEGIN:STANDARD
TZOFFSETFROM:-0400
TZOFFSETTO:-0500
TZNAME:EST
DTSTART:20271107T060000
END:STANDARD
END:VTIMEZONE
BEGIN:VEVENT
DTSTART;VALUE=DATE:20260112
DTEND;VALUE=DATE:20260113
DTSTAMP:20260421T153511
CREATED:20251014T172559Z
LAST-MODIFIED:20251014T172559Z
UID:10003636-1768176000-1768262399@cctech.staging.wp.collegeinbound.com
SUMMARY:Classes Begin - 16W\, 8M1\, & 5M1
DESCRIPTION:
URL:https://cctech.staging.wp.collegeinbound.com/event/classes-begin-16w-8m1-5m1/
LOCATION:CCTC – All Campuses
CATEGORIES:Academics
END:VEVENT
BEGIN:VEVENT
DTSTART;TZID=America/New_York:20260109T080000
DTEND;TZID=America/New_York:20260109T170000
DTSTAMP:20260421T153511
CREATED:20251014T172140Z
LAST-MODIFIED:20251014T172140Z
UID:10003634-1767945600-1767978000@cctech.staging.wp.collegeinbound.com
SUMMARY:Late Registration - Spring 202520
DESCRIPTION:
URL:https://cctech.staging.wp.collegeinbound.com/event/late-registration-spring-202520/
LOCATION:CCTC – All Campuses
CATEGORIES:Academics
END:VEVENT
BEGIN:VEVENT
DTSTART;TZID=America/New_York:20260105T080000
DTEND;TZID=America/New_York:20260109T170000
DTSTAMP:20260421T153511
CREATED:20251014T172044Z
LAST-MODIFIED:20251014T172044Z
UID:10003633-1767600000-1767978000@cctech.staging.wp.collegeinbound.com
SUMMARY:College Reopens - Faculty Workdays
DESCRIPTION:
URL:https://cctech.staging.wp.collegeinbound.com/event/college-reopens-faculty-workdays-7/
LOCATION:CCTC – All Campuses
CATEGORIES:Academics
END:VEVENT
BEGIN:VEVENT
DTSTART;VALUE=DATE:20260101
DTEND;VALUE=DATE:20260103
DTSTAMP:20260421T153511
CREATED:20251014T171920Z
LAST-MODIFIED:20251014T171920Z
UID:10003632-1767225600-1767398399@cctech.staging.wp.collegeinbound.com
SUMMARY:College Closed (Holiday)
DESCRIPTION:
URL:https://cctech.staging.wp.collegeinbound.com/event/college-closed-holiday-2/
LOCATION:CCTC – All Campuses
CATEGORIES:Academics
END:VEVENT
BEGIN:VEVENT
DTSTART;TZID=America/New_York:20251219T080000
DTEND;TZID=America/New_York:20251231T170000
DTSTAMP:20260421T153511
CREATED:20250710T183409Z
LAST-MODIFIED:20250710T183409Z
UID:10003373-1766131200-1767200400@cctech.staging.wp.collegeinbound.com
SUMMARY:Faculty Christmas Holidays
DESCRIPTION:
URL:https://cctech.staging.wp.collegeinbound.com/event/faculty-christmas-holidays-8/
LOCATION:CCTC – All Campuses
CATEGORIES:Academics
END:VEVENT
BEGIN:VEVENT
DTSTART;TZID=America/New_York:20251215T080000
DTEND;TZID=America/New_York:20251218T170000
DTSTAMP:20260421T153511
CREATED:20250710T183303Z
LAST-MODIFIED:20250710T183303Z
UID:10003372-1765785600-1766077200@cctech.staging.wp.collegeinbound.com
SUMMARY:Faculty Workday
DESCRIPTION:
URL:https://cctech.staging.wp.collegeinbound.com/event/faculty-workday-5/
LOCATION:CCTC – All Campuses
CATEGORIES:Academics
END:VEVENT
BEGIN:VEVENT
DTSTART;VALUE=DATE:20251215
DTEND;VALUE=DATE:20251216
DTSTAMP:20260421T153511
CREATED:20250710T183126Z
LAST-MODIFIED:20250710T183126Z
UID:10003371-1765756800-1765843199@cctech.staging.wp.collegeinbound.com
SUMMARY:Faculty Workday-Grades Due Noon - 16WK/10WK/8M2/5M3/WE
DESCRIPTION:
URL:https://cctech.staging.wp.collegeinbound.com/event/faculty-workday-grades-due-noon-16wk-10wk-8m2-5m3-we/
LOCATION:CCTC – All Campuses
CATEGORIES:Academics
END:VEVENT
BEGIN:VEVENT
DTSTART;TZID=America/New_York:20251212T080000
DTEND;TZID=America/New_York:20251213T170000
DTSTAMP:20260421T153511
CREATED:20250710T182916Z
LAST-MODIFIED:20250710T182916Z
UID:10003370-1765526400-1765645200@cctech.staging.wp.collegeinbound.com
SUMMARY:Semester Exams WE College
DESCRIPTION:
URL:https://cctech.staging.wp.collegeinbound.com/event/semester-exams-we-college/
LOCATION:CCTC – All Campuses
CATEGORIES:Academics
END:VEVENT
BEGIN:VEVENT
DTSTART;TZID=America/New_York:20251208T080000
DTEND;TZID=America/New_York:20251212T170000
DTSTAMP:20260421T153511
CREATED:20250710T182739Z
LAST-MODIFIED:20250710T182739Z
UID:10003369-1765180800-1765558800@cctech.staging.wp.collegeinbound.com
SUMMARY:Fall Semester Exams - 16WK/10WK/8M2/5M3
DESCRIPTION:
URL:https://cctech.staging.wp.collegeinbound.com/event/fall-semester-exams-16wk-10wk-8m2-5m3/
LOCATION:CCTC – All Campuses
CATEGORIES:Academics
END:VEVENT
BEGIN:VEVENT
DTSTART;TZID=America/New_York:20251205T080000
DTEND;TZID=America/New_York:20251206T170000
DTSTAMP:20260421T153511
CREATED:20250710T182504Z
LAST-MODIFIED:20250710T182504Z
UID:10003368-1764921600-1765040400@cctech.staging.wp.collegeinbound.com
SUMMARY:Classes End WE College
DESCRIPTION:
URL:https://cctech.staging.wp.collegeinbound.com/event/classes-end-we-college-2/
LOCATION:CCTC – All Campuses
CATEGORIES:Academics
END:VEVENT
BEGIN:VEVENT
DTSTART;VALUE=DATE:20251204
DTEND;VALUE=DATE:20251205
DTSTAMP:20260421T153511
CREATED:20250710T182338Z
LAST-MODIFIED:20250710T182338Z
UID:10003367-1764806400-1764892799@cctech.staging.wp.collegeinbound.com
SUMMARY:Classes End Fall 16 Week/8M2/5M3/10 Week
DESCRIPTION:
URL:https://cctech.staging.wp.collegeinbound.com/event/classes-end-fall-16-week-8m2-5m3-10-week/
LOCATION:CCTC – All Campuses
CATEGORIES:Academics
END:VEVENT
BEGIN:VEVENT
DTSTART;VALUE=DATE:20251201
DTEND;VALUE=DATE:20251206
DTSTAMP:20260421T153511
CREATED:20250910T154010Z
LAST-MODIFIED:20250910T154010Z
UID:10003620-1764547200-1764979199@cctech.staging.wp.collegeinbound.com
SUMMARY:Destress Before The Test
DESCRIPTION:Visit one of our tables for stress relief tips\, tools\, and gadgets to destress before the test!
URL:https://cctech.staging.wp.collegeinbound.com/event/destress-before-the-test/
LOCATION:CCTC – All Campuses
END:VEVENT
BEGIN:VEVENT
DTSTART;VALUE=DATE:20251201
DTEND;VALUE=DATE:20251202
DTSTAMP:20260421T153511
CREATED:20250710T133115Z
LAST-MODIFIED:20250710T133115Z
UID:10003366-1764547200-1764633599@cctech.staging.wp.collegeinbound.com
SUMMARY:Graduation Application Deadline
DESCRIPTION:
URL:https://cctech.staging.wp.collegeinbound.com/event/graduation-application-deadline-7/
LOCATION:CCTC – All Campuses
CATEGORIES:Academics
END:VEVENT
BEGIN:VEVENT
DTSTART;TZID=America/New_York:20251126T080000
DTEND;TZID=America/New_York:20251129T170000
DTSTAMP:20260421T153511
CREATED:20250710T131454Z
LAST-MODIFIED:20250710T131454Z
UID:10003365-1764144000-1764435600@cctech.staging.wp.collegeinbound.com
SUMMARY:Thanksgiving Holidays - College Closed - Including WE College
DESCRIPTION:
URL:https://cctech.staging.wp.collegeinbound.com/event/thanksgiving-holidays-college-closed-including-we-college/
LOCATION:CCTC – All Campuses
CATEGORIES:Academics
END:VEVENT
BEGIN:VEVENT
DTSTART;VALUE=DATE:20251124
DTEND;VALUE=DATE:20251125
DTSTAMP:20260421T153511
CREATED:20250710T131312Z
LAST-MODIFIED:20250710T131312Z
UID:10003364-1763942400-1764028799@cctech.staging.wp.collegeinbound.com
SUMMARY:Last Day to Withdraw with "W" - Fall 5M3
DESCRIPTION:
URL:https://cctech.staging.wp.collegeinbound.com/event/last-day-to-withdraw-with-w-fall-5m3/
LOCATION:CCTC – All Campuses
CATEGORIES:Academics
END:VEVENT
BEGIN:VEVENT
DTSTART;VALUE=DATE:20251119
DTEND;VALUE=DATE:20251120
DTSTAMP:20260421T153511
CREATED:20250710T131117Z
LAST-MODIFIED:20250710T131117Z
UID:10003363-1763510400-1763596799@cctech.staging.wp.collegeinbound.com
SUMMARY:Last Day to Withdraw with "W" - Fall 8M2
DESCRIPTION:
URL:https://cctech.staging.wp.collegeinbound.com/event/last-day-to-withdraw-with-w-fall-8m2/
LOCATION:CCTC – All Campuses
CATEGORIES:Academics
END:VEVENT
BEGIN:VEVENT
DTSTART;VALUE=DATE:20251117
DTEND;VALUE=DATE:20251118
DTSTAMP:20260421T153511
CREATED:20250710T131012Z
LAST-MODIFIED:20250710T131012Z
UID:10003362-1763337600-1763423999@cctech.staging.wp.collegeinbound.com
SUMMARY:Last Day to Withdraw with "W" - Fall 10 Weeks
DESCRIPTION:
URL:https://cctech.staging.wp.collegeinbound.com/event/last-day-to-withdraw-with-w-fall-10-weeks/
LOCATION:CCTC – All Campuses
CATEGORIES:Academics
END:VEVENT
BEGIN:VEVENT
DTSTART;VALUE=DATE:20251114
DTEND;VALUE=DATE:20251115
DTSTAMP:20260421T153511
CREATED:20250710T130845Z
LAST-MODIFIED:20250710T130845Z
UID:10003361-1763078400-1763164799@cctech.staging.wp.collegeinbound.com
SUMMARY:Last Day to Withdraw with "W" - Fall WE College
DESCRIPTION:
URL:https://cctech.staging.wp.collegeinbound.com/event/last-day-to-withdraw-with-w-fall-we-college/
LOCATION:CCTC – All Campuses
CATEGORIES:Academics
END:VEVENT
BEGIN:VEVENT
DTSTART;VALUE=DATE:20251111
DTEND;VALUE=DATE:20251112
DTSTAMP:20260421T153511
CREATED:20250710T130704Z
LAST-MODIFIED:20250710T130704Z
UID:10003360-1762819200-1762905599@cctech.staging.wp.collegeinbound.com
SUMMARY:Veterans' Day - No Classes
DESCRIPTION:
URL:https://cctech.staging.wp.collegeinbound.com/event/veterans-day-no-classes-2/
LOCATION:CCTC – All Campuses
CATEGORIES:Academics
END:VEVENT
BEGIN:VEVENT
DTSTART;VALUE=DATE:20251105
DTEND;VALUE=DATE:20251106
DTSTAMP:20260421T153511
CREATED:20250710T130434Z
LAST-MODIFIED:20250710T130434Z
UID:10003359-1762300800-1762387199@cctech.staging.wp.collegeinbound.com
SUMMARY:Last Day to Withdraw with "W" - Fall 16 Weeks
DESCRIPTION:
URL:https://cctech.staging.wp.collegeinbound.com/event/last-day-to-withdraw-with-w-fall-16-weeks/
LOCATION:CCTC – All Campuses
CATEGORIES:Academics
END:VEVENT
BEGIN:VEVENT
DTSTART;VALUE=DATE:20251103
DTEND;VALUE=DATE:20251104
DTSTAMP:20260421T153511
CREATED:20250710T130326Z
LAST-MODIFIED:20250710T130326Z
UID:10003358-1762128000-1762214399@cctech.staging.wp.collegeinbound.com
SUMMARY:Midterm Grades Due Noon - Fall 8M2
DESCRIPTION:
URL:https://cctech.staging.wp.collegeinbound.com/event/midterm-grades-due-noon-fall-8m2/
LOCATION:CCTC – All Campuses
CATEGORIES:Academics
END:VEVENT
BEGIN:VEVENT
DTSTART;TZID=America/New_York:20251027T080000
DTEND;TZID=America/New_York:20251029T170000
DTSTAMP:20260421T153511
CREATED:20250710T120340Z
LAST-MODIFIED:20250710T120340Z
UID:10003356-1761552000-1761757200@cctech.staging.wp.collegeinbound.com
SUMMARY:Drop/Add Period Fall 5M3
DESCRIPTION:
URL:https://cctech.staging.wp.collegeinbound.com/event/drop-add-period-fall-5m3-2/
LOCATION:CCTC – All Campuses
CATEGORIES:Academics
END:VEVENT
BEGIN:VEVENT
DTSTART;VALUE=DATE:20251027
DTEND;VALUE=DATE:20251028
DTSTAMP:20260421T153511
CREATED:20250710T120516Z
LAST-MODIFIED:20250710T120516Z
UID:10003357-1761523200-1761609599@cctech.staging.wp.collegeinbound.com
SUMMARY:Midterm Grades Due Noon - Fall 10 Weeks
DESCRIPTION:
URL:https://cctech.staging.wp.collegeinbound.com/event/midterm-grades-due-noon-fall-10-weeks/
LOCATION:CCTC – All Campuses
CATEGORIES:Academics
END:VEVENT
BEGIN:VEVENT
DTSTART;VALUE=DATE:20251027
DTEND;VALUE=DATE:20251028
DTSTAMP:20260421T153511
CREATED:20250710T120225Z
LAST-MODIFIED:20250710T120225Z
UID:10003355-1761523200-1761609599@cctech.staging.wp.collegeinbound.com
SUMMARY:Classes Begin Fall 5M3
DESCRIPTION:
URL:https://cctech.staging.wp.collegeinbound.com/event/classes-begin-fall-5m3/
LOCATION:CCTC – All Campuses
CATEGORIES:Academics
END:VEVENT
BEGIN:VEVENT
DTSTART;VALUE=DATE:20251024
DTEND;VALUE=DATE:20251025
DTSTAMP:20260421T153511
CREATED:20250710T115948Z
LAST-MODIFIED:20250710T115948Z
UID:10003354-1761264000-1761350399@cctech.staging.wp.collegeinbound.com
SUMMARY:Grades Due Noon - Fall 5M2
DESCRIPTION:
URL:https://cctech.staging.wp.collegeinbound.com/event/grades-due-noon-fall-5m2/
LOCATION:CCTC – All Campuses
CATEGORIES:Academics
END:VEVENT
BEGIN:VEVENT
DTSTART;VALUE=DATE:20251023
DTEND;VALUE=DATE:20251024
DTSTAMP:20260421T153511
CREATED:20250710T115847Z
LAST-MODIFIED:20250710T115847Z
UID:10003353-1761177600-1761263999@cctech.staging.wp.collegeinbound.com
SUMMARY:Classes End Fall 5M2 - Exams During Regular Class Time
DESCRIPTION:
URL:https://cctech.staging.wp.collegeinbound.com/event/classes-end-fall-5m2-exams-during-regular-class-time-2/
LOCATION:CCTC – All Campuses
CATEGORIES:Academics
END:VEVENT
BEGIN:VEVENT
DTSTART;TZID=America/New_York:20251022T080000
DTEND;TZID=America/New_York:20251022T160000
DTSTAMP:20260421T153511
CREATED:20250731T163016Z
LAST-MODIFIED:20250731T163016Z
UID:10003401-1761120000-1761148800@cctech.staging.wp.collegeinbound.com
SUMMARY:Pink Out Day
DESCRIPTION:Students\, staff\, and faculty are encouraged to wear pink in honor of Breast Cancer Awareness Month and take photos with friends! Email us at studentlife@cctech.edu with a photo of your best pink outfits!
URL:https://cctech.staging.wp.collegeinbound.com/event/pink-out-day-3/
LOCATION:CCTC – All Campuses
END:VEVENT
BEGIN:VEVENT
DTSTART;VALUE=DATE:20251015
DTEND;VALUE=DATE:20251016
DTSTAMP:20260421T153511
CREATED:20250710T115656Z
LAST-MODIFIED:20250710T115656Z
UID:10003352-1760486400-1760572799@cctech.staging.wp.collegeinbound.com
SUMMARY:Last Day to Withdraw with "W" - Fall 5M2
DESCRIPTION:
URL:https://cctech.staging.wp.collegeinbound.com/event/last-day-to-withdraw-with-w-fall-5m2-2/
LOCATION:CCTC – All Campuses
CATEGORIES:Academics
END:VEVENT
BEGIN:VEVENT
DTSTART;TZID=America/New_York:20251013T080000
DTEND;TZID=America/New_York:20251015T170000
DTSTAMP:20260421T153511
CREATED:20250710T115535Z
LAST-MODIFIED:20250710T115535Z
UID:10003351-1760342400-1760547600@cctech.staging.wp.collegeinbound.com
SUMMARY:Drop/Add Fall 8M2
DESCRIPTION:
URL:https://cctech.staging.wp.collegeinbound.com/event/drop-add-fall-8m2/
LOCATION:CCTC – All Campuses
CATEGORIES:Academics
END:VEVENT
BEGIN:VEVENT
DTSTART;VALUE=DATE:20251013
DTEND;VALUE=DATE:20251014
DTSTAMP:20260421T153511
CREATED:20250710T115420Z
LAST-MODIFIED:20250710T115420Z
UID:10003350-1760313600-1760399999@cctech.staging.wp.collegeinbound.com
SUMMARY:Classes Begin Fall 8M2
DESCRIPTION:
URL:https://cctech.staging.wp.collegeinbound.com/event/classes-begin-fall-8m2/
LOCATION:CCTC – All Campuses
CATEGORIES:Academics
END:VEVENT
END:VCALENDAR