BEGIN:VCALENDAR
VERSION:2.0
PRODID:-// - ECPv6.15.17.1//NONSGML v1.0//EN
CALSCALE:GREGORIAN
METHOD:PUBLISH
X-ORIGINAL-URL:https://cctech.staging.wp.collegeinbound.com
X-WR-CALDESC:Events for 
REFRESH-INTERVAL;VALUE=DURATION:PT1H
X-Robots-Tag:noindex
X-PUBLISHED-TTL:PT1H
BEGIN:VTIMEZONE
TZID:America/New_York
BEGIN:DAYLIGHT
TZOFFSETFROM:-0500
TZOFFSETTO:-0400
TZNAME:EDT
DTSTART:20240310T070000
END:DAYLIGHT
BEGIN:STANDARD
TZOFFSETFROM:-0400
TZOFFSETTO:-0500
TZNAME:EST
DTSTART:20241103T060000
END:STANDARD
BEGIN:DAYLIGHT
TZOFFSETFROM:-0500
TZOFFSETTO:-0400
TZNAME:EDT
DTSTART:20250309T070000
END:DAYLIGHT
BEGIN:STANDARD
TZOFFSETFROM:-0400
TZOFFSETTO:-0500
TZNAME:EST
DTSTART:20251102T060000
END:STANDARD
BEGIN:DAYLIGHT
TZOFFSETFROM:-0500
TZOFFSETTO:-0400
TZNAME:EDT
DTSTART:20260308T070000
END:DAYLIGHT
BEGIN:STANDARD
TZOFFSETFROM:-0400
TZOFFSETTO:-0500
TZNAME:EST
DTSTART:20261101T060000
END:STANDARD
END:VTIMEZONE
BEGIN:VEVENT
DTSTART;VALUE=DATE:20251024
DTEND;VALUE=DATE:20251025
DTSTAMP:20260421T181707
CREATED:20250710T115948Z
LAST-MODIFIED:20250710T115948Z
UID:10003354-1761264000-1761350399@cctech.staging.wp.collegeinbound.com
SUMMARY:Grades Due Noon - Fall 5M2
DESCRIPTION:
URL:https://cctech.staging.wp.collegeinbound.com/event/grades-due-noon-fall-5m2/
LOCATION:CCTC – All Campuses
CATEGORIES:Academics
END:VEVENT
BEGIN:VEVENT
DTSTART;VALUE=DATE:20251023
DTEND;VALUE=DATE:20251024
DTSTAMP:20260421T181707
CREATED:20250710T115847Z
LAST-MODIFIED:20250710T115847Z
UID:10003353-1761177600-1761263999@cctech.staging.wp.collegeinbound.com
SUMMARY:Classes End Fall 5M2 - Exams During Regular Class Time
DESCRIPTION:
URL:https://cctech.staging.wp.collegeinbound.com/event/classes-end-fall-5m2-exams-during-regular-class-time-2/
LOCATION:CCTC – All Campuses
CATEGORIES:Academics
END:VEVENT
BEGIN:VEVENT
DTSTART;TZID=America/New_York:20251022T080000
DTEND;TZID=America/New_York:20251022T160000
DTSTAMP:20260421T181707
CREATED:20250731T163016Z
LAST-MODIFIED:20250731T163016Z
UID:10003401-1761120000-1761148800@cctech.staging.wp.collegeinbound.com
SUMMARY:Pink Out Day
DESCRIPTION:Students\, staff\, and faculty are encouraged to wear pink in honor of Breast Cancer Awareness Month and take photos with friends! Email us at studentlife@cctech.edu with a photo of your best pink outfits!
URL:https://cctech.staging.wp.collegeinbound.com/event/pink-out-day-3/
LOCATION:CCTC – All Campuses
END:VEVENT
BEGIN:VEVENT
DTSTART;VALUE=DATE:20251015
DTEND;VALUE=DATE:20251016
DTSTAMP:20260421T181707
CREATED:20250710T115656Z
LAST-MODIFIED:20250710T115656Z
UID:10003352-1760486400-1760572799@cctech.staging.wp.collegeinbound.com
SUMMARY:Last Day to Withdraw with "W" - Fall 5M2
DESCRIPTION:
URL:https://cctech.staging.wp.collegeinbound.com/event/last-day-to-withdraw-with-w-fall-5m2-2/
LOCATION:CCTC – All Campuses
CATEGORIES:Academics
END:VEVENT
BEGIN:VEVENT
DTSTART;TZID=America/New_York:20251013T080000
DTEND;TZID=America/New_York:20251015T170000
DTSTAMP:20260421T181707
CREATED:20250710T115535Z
LAST-MODIFIED:20250710T115535Z
UID:10003351-1760342400-1760547600@cctech.staging.wp.collegeinbound.com
SUMMARY:Drop/Add Fall 8M2
DESCRIPTION:
URL:https://cctech.staging.wp.collegeinbound.com/event/drop-add-fall-8m2/
LOCATION:CCTC – All Campuses
CATEGORIES:Academics
END:VEVENT
BEGIN:VEVENT
DTSTART;VALUE=DATE:20251013
DTEND;VALUE=DATE:20251014
DTSTAMP:20260421T181707
CREATED:20250710T115420Z
LAST-MODIFIED:20250710T115420Z
UID:10003350-1760313600-1760399999@cctech.staging.wp.collegeinbound.com
SUMMARY:Classes Begin Fall 8M2
DESCRIPTION:
URL:https://cctech.staging.wp.collegeinbound.com/event/classes-begin-fall-8m2/
LOCATION:CCTC – All Campuses
CATEGORIES:Academics
END:VEVENT
BEGIN:VEVENT
DTSTART;VALUE=DATE:20251011
DTEND;VALUE=DATE:20251012
DTSTAMP:20260421T181707
CREATED:20250710T114642Z
LAST-MODIFIED:20250710T114642Z
UID:10003349-1760140800-1760227199@cctech.staging.wp.collegeinbound.com
SUMMARY:No Saturday Classes - Fall Break WE College
DESCRIPTION:
URL:https://cctech.staging.wp.collegeinbound.com/event/no-saturday-classes-fall-break-we-college/
LOCATION:CCTC – All Campuses
CATEGORIES:Academics
END:VEVENT
BEGIN:VEVENT
DTSTART;VALUE=DATE:20251010
DTEND;VALUE=DATE:20251011
DTSTAMP:20260421T181707
CREATED:20250710T114155Z
LAST-MODIFIED:20250710T114155Z
UID:10003347-1760054400-1760140799@cctech.staging.wp.collegeinbound.com
SUMMARY:Midterm Grades Due Noon - WE College
DESCRIPTION:
URL:https://cctech.staging.wp.collegeinbound.com/event/midterm-grades-due-noon-we-college/
LOCATION:CCTC – All Campuses
CATEGORIES:Academics
END:VEVENT
BEGIN:VEVENT
DTSTART;TZID=America/New_York:20251009T080000
DTEND;TZID=America/New_York:20251010T170000
DTSTAMP:20260421T181707
CREATED:20250710T114251Z
LAST-MODIFIED:20250710T114251Z
UID:10003348-1759996800-1760115600@cctech.staging.wp.collegeinbound.com
SUMMARY:No Classes-Fall Break
DESCRIPTION:
URL:https://cctech.staging.wp.collegeinbound.com/event/no-classes-fall-break/
LOCATION:CCTC – All Campuses
CATEGORIES:Academics
END:VEVENT
BEGIN:VEVENT
DTSTART;VALUE=DATE:20251008
DTEND;VALUE=DATE:20251009
DTSTAMP:20260421T181707
CREATED:20250710T114013Z
LAST-MODIFIED:20250710T114013Z
UID:10003346-1759881600-1759967999@cctech.staging.wp.collegeinbound.com
SUMMARY:Grades Due Noon - Fall 8M1
DESCRIPTION:
URL:https://cctech.staging.wp.collegeinbound.com/event/grades-due-noon-fall-8m1/
LOCATION:CCTC – All Campuses
CATEGORIES:Academics
END:VEVENT
BEGIN:VEVENT
DTSTART;VALUE=DATE:20251007
DTEND;VALUE=DATE:20251008
DTSTAMP:20260421T181707
CREATED:20250710T113900Z
LAST-MODIFIED:20250710T113900Z
UID:10003345-1759795200-1759881599@cctech.staging.wp.collegeinbound.com
SUMMARY:Classes End Fall 8M1 - Exams During Regular Class Time
DESCRIPTION:
URL:https://cctech.staging.wp.collegeinbound.com/event/classes-end-fall-8m1-exams-during-regular-class-time/
LOCATION:CCTC – All Campuses
CATEGORIES:Academics
END:VEVENT
BEGIN:VEVENT
DTSTART;VALUE=DATE:20251007
DTEND;VALUE=DATE:20251008
DTSTAMP:20260421T181707
CREATED:20250710T113555Z
LAST-MODIFIED:20250710T113555Z
UID:10003344-1759795200-1759881599@cctech.staging.wp.collegeinbound.com
SUMMARY:Midterm Grades Due Noon - Fall 16 Weeks
DESCRIPTION:
URL:https://cctech.staging.wp.collegeinbound.com/event/midterm-grades-due-noon-fall-16-weeks/
LOCATION:CCTC – All Campuses
CATEGORIES:Academics
END:VEVENT
BEGIN:VEVENT
DTSTART;VALUE=DATE:20250929
DTEND;VALUE=DATE:20250930
DTSTAMP:20260421T181707
CREATED:20250710T113356Z
LAST-MODIFIED:20250710T113356Z
UID:10003343-1759104000-1759190399@cctech.staging.wp.collegeinbound.com
SUMMARY:Registration Open for Spring Semester
DESCRIPTION:
URL:https://cctech.staging.wp.collegeinbound.com/event/registration-open-for-spring-semester-2/
LOCATION:CCTC – All Campuses
CATEGORIES:Academics
END:VEVENT
BEGIN:VEVENT
DTSTART;VALUE=DATE:20250925
DTEND;VALUE=DATE:20250926
DTSTAMP:20260421T181707
CREATED:20250710T113300Z
LAST-MODIFIED:20250710T113300Z
UID:10003342-1758758400-1758844799@cctech.staging.wp.collegeinbound.com
SUMMARY:Last Day to Withdraw with "W" Fall 8M1
DESCRIPTION:
URL:https://cctech.staging.wp.collegeinbound.com/event/last-day-to-withdraw-with-w-fall-8m1/
LOCATION:CCTC – All Campuses
CATEGORIES:Academics
END:VEVENT
BEGIN:VEVENT
DTSTART;TZID=America/New_York:20250922T080000
DTEND;TZID=America/New_York:20250924T170000
DTSTAMP:20260421T181707
CREATED:20250710T113114Z
LAST-MODIFIED:20250710T113114Z
UID:10003341-1758528000-1758733200@cctech.staging.wp.collegeinbound.com
SUMMARY:Drop/Add - Fall 5M2 & 10 Week
DESCRIPTION:
URL:https://cctech.staging.wp.collegeinbound.com/event/drop-add-fall-5m2-10-week/
LOCATION:CCTC – All Campuses
CATEGORIES:Academics
END:VEVENT
BEGIN:VEVENT
DTSTART;VALUE=DATE:20250922
DTEND;VALUE=DATE:20250923
DTSTAMP:20260421T181707
CREATED:20250710T112914Z
LAST-MODIFIED:20250710T112914Z
UID:10003340-1758499200-1758585599@cctech.staging.wp.collegeinbound.com
SUMMARY:Classes Begin Fall 5M2/10 Week
DESCRIPTION:
URL:https://cctech.staging.wp.collegeinbound.com/event/classes-begin-fall-5m2-10-week/
LOCATION:CCTC – All Campuses
CATEGORIES:Academics
END:VEVENT
BEGIN:VEVENT
DTSTART;VALUE=DATE:20250919
DTEND;VALUE=DATE:20250920
DTSTAMP:20260421T181707
CREATED:20250710T112732Z
LAST-MODIFIED:20250710T112732Z
UID:10003339-1758240000-1758326399@cctech.staging.wp.collegeinbound.com
SUMMARY:Grades Due Fall 5M1 - Noon
DESCRIPTION:
URL:https://cctech.staging.wp.collegeinbound.com/event/grades-due-fall-5m1-noon/
LOCATION:CCTC – All Campuses
CATEGORIES:Academics
END:VEVENT
BEGIN:VEVENT
DTSTART;VALUE=DATE:20250918
DTEND;VALUE=DATE:20250919
DTSTAMP:20260421T181707
CREATED:20250710T112618Z
LAST-MODIFIED:20250710T112618Z
UID:10003338-1758153600-1758239999@cctech.staging.wp.collegeinbound.com
SUMMARY:Classes End Fall 5M1 - Exams During Regular Class Time
DESCRIPTION:
URL:https://cctech.staging.wp.collegeinbound.com/event/classes-end-fall-5m1-exams-during-regular-class-time/
LOCATION:CCTC – All Campuses
CATEGORIES:Academics
END:VEVENT
BEGIN:VEVENT
DTSTART;TZID=America/New_York:20250911T080000
DTEND;TZID=America/New_York:20250911T120000
DTSTAMP:20260421T181707
CREATED:20250707T153906Z
LAST-MODIFIED:20250707T153906Z
UID:10003336-1757577600-1757592000@cctech.staging.wp.collegeinbound.com
SUMMARY:Midterm Grades Due Noon 8M1
DESCRIPTION:
URL:https://cctech.staging.wp.collegeinbound.com/event/midterm-grades-due-noon-8m1/
LOCATION:CCTC – All Campuses
CATEGORIES:Academics
END:VEVENT
BEGIN:VEVENT
DTSTART;VALUE=DATE:20250911
DTEND;VALUE=DATE:20250912
DTSTAMP:20260421T181707
CREATED:20250710T112408Z
LAST-MODIFIED:20250710T112408Z
UID:10003337-1757548800-1757635199@cctech.staging.wp.collegeinbound.com
SUMMARY:Last Day to Withdraw with "W" Fall 5M1
DESCRIPTION:
URL:https://cctech.staging.wp.collegeinbound.com/event/last-day-to-withdraw-with-w-fall-5m1/
LOCATION:CCTC – All Campuses
CATEGORIES:Academics
END:VEVENT
BEGIN:VEVENT
DTSTART;TZID=America/New_York:20250905T080000
DTEND;TZID=America/New_York:20250909T170000
DTSTAMP:20260421T181707
CREATED:20250707T153216Z
LAST-MODIFIED:20250707T153216Z
UID:10003335-1757059200-1757437200@cctech.staging.wp.collegeinbound.com
SUMMARY:Drop/Add WE College
DESCRIPTION:
URL:https://cctech.staging.wp.collegeinbound.com/event/drop-add-we-college/
LOCATION:CCTC – All Campuses
CATEGORIES:Academics
END:VEVENT
BEGIN:VEVENT
DTSTART;VALUE=DATE:20250905
DTEND;VALUE=DATE:20250906
DTSTAMP:20260421T181707
CREATED:20250707T153119Z
LAST-MODIFIED:20250707T153119Z
UID:10003334-1757030400-1757116799@cctech.staging.wp.collegeinbound.com
SUMMARY:Classes Begin WE College
DESCRIPTION:
URL:https://cctech.staging.wp.collegeinbound.com/event/classes-begin-we-college/
LOCATION:CCTC – All Campuses
CATEGORIES:Academics
END:VEVENT
BEGIN:VEVENT
DTSTART;VALUE=DATE:20250901
DTEND;VALUE=DATE:20250902
DTSTAMP:20260421T181707
CREATED:20250707T151731Z
LAST-MODIFIED:20250707T151731Z
UID:10003333-1756684800-1756771199@cctech.staging.wp.collegeinbound.com
SUMMARY:Labor Day (College Closed) No Classes
DESCRIPTION:
URL:https://cctech.staging.wp.collegeinbound.com/event/labor-day-college-closed-no-classes/
LOCATION:CCTC – All Campuses
CATEGORIES:Academics
END:VEVENT
BEGIN:VEVENT
DTSTART;TZID=America/New_York:20250818T080000
DTEND;TZID=America/New_York:20250822T170000
DTSTAMP:20260421T181707
CREATED:20250707T151316Z
LAST-MODIFIED:20250707T151316Z
UID:10003331-1755504000-1755882000@cctech.staging.wp.collegeinbound.com
SUMMARY:Drop/Add Fall 16 Weeks
DESCRIPTION:
URL:https://cctech.staging.wp.collegeinbound.com/event/drop-add-fall-16-weeks/
LOCATION:CCTC – All Campuses
CATEGORIES:Academics
END:VEVENT
BEGIN:VEVENT
DTSTART;TZID=America/New_York:20250818T080000
DTEND;TZID=America/New_York:20250820T170000
DTSTAMP:20260421T181707
CREATED:20250707T151412Z
LAST-MODIFIED:20250707T151412Z
UID:10003332-1755504000-1755709200@cctech.staging.wp.collegeinbound.com
SUMMARY:Drop/Add Fall 8M1/5M1
DESCRIPTION:
URL:https://cctech.staging.wp.collegeinbound.com/event/drop-add-fall-8m1-5m1/
LOCATION:CCTC – All Campuses
CATEGORIES:Academics
END:VEVENT
BEGIN:VEVENT
DTSTART;VALUE=DATE:20250818
DTEND;VALUE=DATE:20250819
DTSTAMP:20260421T181707
CREATED:20250707T151002Z
LAST-MODIFIED:20250707T151002Z
UID:10003330-1755475200-1755561599@cctech.staging.wp.collegeinbound.com
SUMMARY:Fall 202510 Classes Begin 16 Weeks/8M1/5M1
DESCRIPTION:
URL:https://cctech.staging.wp.collegeinbound.com/event/fall-202510-classes-begin/
LOCATION:CCTC – All Campuses
CATEGORIES:Academics
END:VEVENT
BEGIN:VEVENT
DTSTART;VALUE=DATE:20250815
DTEND;VALUE=DATE:20250816
DTSTAMP:20260421T181707
CREATED:20250707T150623Z
LAST-MODIFIED:20250707T150623Z
UID:10003328-1755216000-1755302399@cctech.staging.wp.collegeinbound.com
SUMMARY:Fall Late Registration
DESCRIPTION:
URL:https://cctech.staging.wp.collegeinbound.com/event/fall-late-registration-2/
LOCATION:CCTC – All Campuses
CATEGORIES:Academics
END:VEVENT
BEGIN:VEVENT
DTSTART;VALUE=DATE:20250814
DTEND;VALUE=DATE:20250815
DTSTAMP:20260421T181707
CREATED:20250707T150451Z
LAST-MODIFIED:20250707T150451Z
UID:10003327-1755129600-1755215999@cctech.staging.wp.collegeinbound.com
SUMMARY:New Student Orientation
DESCRIPTION:
URL:https://cctech.staging.wp.collegeinbound.com/event/new-student-orientation-19/
LOCATION:CCTC – All Campuses
CATEGORIES:Academics
END:VEVENT
BEGIN:VEVENT
DTSTART;VALUE=DATE:20250812
DTEND;VALUE=DATE:20250813
DTSTAMP:20260421T181707
CREATED:20250707T150301Z
LAST-MODIFIED:20250707T150301Z
UID:10003326-1754956800-1755043199@cctech.staging.wp.collegeinbound.com
SUMMARY:New Student Orientation
DESCRIPTION:
URL:https://cctech.staging.wp.collegeinbound.com/event/new-student-orientation-18/
LOCATION:CCTC – All Campuses
CATEGORIES:Academics
END:VEVENT
BEGIN:VEVENT
DTSTART;TZID=America/New_York:20250811T080000
DTEND;TZID=America/New_York:20250811T170000
DTSTAMP:20260421T181707
CREATED:20250707T145035Z
LAST-MODIFIED:20250707T145035Z
UID:10003325-1754899200-1754931600@cctech.staging.wp.collegeinbound.com
SUMMARY:New Student Orientation
DESCRIPTION:
URL:https://cctech.staging.wp.collegeinbound.com/event/new-student-orientation-15/
LOCATION:CCTC – All Campuses
CATEGORIES:Academics
END:VEVENT
END:VCALENDAR